BEGIN:VCALENDAR
VERSION:2.0
PRODID:-//Broom Owners Club - ECPv5.14.2.1//NONSGML v1.0//EN
CALSCALE:GREGORIAN
METHOD:PUBLISH
X-WR-CALNAME:Broom Owners Club
X-ORIGINAL-URL:https://broomowners.com
X-WR-CALDESC:Events for Broom Owners Club
REFRESH-INTERVAL;VALUE=DURATION:PT1H
X-Robots-Tag:noindex
X-PUBLISHED-TTL:PT1H
BEGIN:VTIMEZONE
TZID:Europe/London
BEGIN:DAYLIGHT
TZOFFSETFROM:+0000
TZOFFSETTO:+0100
TZNAME:BST
DTSTART:20260329T010000
END:DAYLIGHT
BEGIN:STANDARD
TZOFFSETFROM:+0100
TZOFFSETTO:+0000
TZNAME:GMT
DTSTART:20261025T010000
END:STANDARD
END:VTIMEZONE
BEGIN:VEVENT
DTSTART;VALUE=DATE:20260502
DTEND;VALUE=DATE:20260503
DTSTAMP:20260420T021812
CREATED:20260415T172833Z
LAST-MODIFIED:20260415T172833Z
UID:17917-1777680000-1777766399@broomowners.com
SUMMARY:Broom Owners Club- Horning Boat Show
DESCRIPTION:You are unauthorized to view this page. \n  \n  \n            \n\n                       \n            \n        \n                              Username or E-mail\n        \n        \n      \n      \n        \n          Password\n          \n            \n            \n              \n            \n          \n        \n      \n            \n         Remember Me\n      \n       \n      \n        \n        \n        \n        \n      \n    \n     \n    \n        \n          Forgot Password
URL:https://broomowners.com/event/broom-owners-club-horning-boat-show/
END:VEVENT
END:VCALENDAR